BEGIN:VCALENDAR
VERSION:2.0
PRODID:-//Agenda Culturel Scène des Mondes//agenda::fr
METHOD:PUBLISH
X-WR-CALNAME:Agenda Culturel Scène des Mondes
X-WR-CALDESC:Toute l'actualité culturelle d'Alès et de son agglomération : conférences\, spectacles\, expositions\, musique...
X-WR-RELCALID:69319016
BEGIN:VEVENT
UID:69319016//56047771//2026-05-29//16:00:00Z
DTSTART:20260529T160000Z
DTEND:20260529T180000Z
DTSTAMP:20260422T140300Z
TZID:Europe-Paris
SUMMARY:32e Exposition de Printemps à Rousson
DESCRIPTION:Exposition artistique thématique et animations Voir plus: https
 ://openagenda.com/agenda-culturel-scene-des-mondes/events/32e-exposition-d
 e-printemps-a-rousson
STATUS:CONFIRMED
URL:https://openagenda.com/agenda-culturel-scene-des-mondes/events/32e-expo
 sition-de-printemps-a-rousson
LAST-MODIFIED:20260327T075100Z
LOCATION:Chapelle Saint-Martin - 1 chemin du plateau\, 30340 Rousson
GEO:44.199216;4.142378
ORGANIZER:OA
END:VEVENT
END:VCALENDAR