BEGIN:VCALENDAR
VERSION:2.0
PRODID:-//Agenda Culturel Scène des Mondes//agenda::fr
METHOD:PUBLISH
X-WR-CALNAME:Agenda Culturel Scène des Mondes
X-WR-CALDESC:Toute l'actualité culturelle d'Alès et de son agglomération : conférences\, spectacles\, expositions\, musique...
X-WR-RELCALID:69319016
BEGIN:VEVENT
UID:69319016//53106150//2026-05-03//08:00:00Z
DTSTART:20260503T080000Z
DTEND:20260503T103000Z
DTSTAMP:20260422T121900Z
TZID:Europe-Paris
SUMMARY:1er dimanche gratuit
DESCRIPTION:Tous les premiers dimanches du mois\, l'entrée du musée est gra
 tuite. Voir plus: https://openagenda.com/agenda-culturel-scene-des-mondes/
 events/1er-dimanche-gratuit
STATUS:CONFIRMED
URL:https://openagenda.com/agenda-culturel-scene-des-mondes/events/1er-dima
 nche-gratuit
LAST-MODIFIED:20260408T142700Z
LOCATION:Maison Rouge – Musée des vallées cévenoles - 5 rue de l’Industrie\
 , 30270 Saint-Jean-du-Gard
GEO:44.104056;3.885587
ORGANIZER:OA
END:VEVENT
END:VCALENDAR