BEGIN:VCALENDAR
VERSION:2.0
PRODID:-//Agenda Culturel Scène des Mondes//agenda::fr
METHOD:PUBLISH
X-WR-CALNAME:Agenda Culturel Scène des Mondes
X-WR-CALDESC:Toute l'actualité culturelle d'Alès et de son agglomération : conférences\, spectacles\, expositions\, musique...
X-WR-RELCALID:69319016
BEGIN:VEVENT
UID:69319016//56157360//2026-04-25//08:00:00Z
DTSTART:20260425T080000Z
DTEND:20260425T153000Z
DTSTAMP:20260422T134100Z
TZID:Europe-Paris
SUMMARY:10ème Fête de la BD Gardons la Bulle
DESCRIPTION:Une vingtaine d'auteurs en dédicaces autour de nombreuses anima
 tions et expositions ! Marraine de cette édition anniversaire : Ariane AST
 IER Voir plus: https://openagenda.com/agenda-culturel-scene-des-mondes/eve
 nts/10eme-fete-de-la-bd-gardons-la-bulle
STATUS:CONFIRMED
URL:https://openagenda.com/agenda-culturel-scene-des-mondes/events/10eme-fe
 te-de-la-bd-gardons-la-bulle
LAST-MODIFIED:20260404T132200Z
LOCATION:Espace Alès-Cazot - Rue Jules Cazot\, 30100 Alès
GEO:44.124449;4.074879
ORGANIZER:OA
END:VEVENT
END:VCALENDAR